BEGIN:VCALENDAR
VERSION:2.0
PRODID:-//CartouCirc - Ressourcerie de quartier - ECPv6.15.20//NONSGML v1.0//EN
CALSCALE:GREGORIAN
METHOD:PUBLISH
X-ORIGINAL-URL:http://cartoucirc.fr
X-WR-CALDESC:Évènements pour CartouCirc - Ressourcerie de quartier
REFRESH-INTERVAL;VALUE=DURATION:PT1H
X-Robots-Tag:noindex
X-PUBLISHED-TTL:PT1H
BEGIN:VTIMEZONE
TZID:Europe/Paris
BEGIN:DAYLIGHT
TZOFFSETFROM:+0100
TZOFFSETTO:+0200
TZNAME:CEST
DTSTART:20240331T010000
END:DAYLIGHT
BEGIN:STANDARD
TZOFFSETFROM:+0200
TZOFFSETTO:+0100
TZNAME:CET
DTSTART:20241027T010000
END:STANDARD
BEGIN:DAYLIGHT
TZOFFSETFROM:+0100
TZOFFSETTO:+0200
TZNAME:CEST
DTSTART:20250330T010000
END:DAYLIGHT
BEGIN:STANDARD
TZOFFSETFROM:+0200
TZOFFSETTO:+0100
TZNAME:CET
DTSTART:20251026T010000
END:STANDARD
BEGIN:DAYLIGHT
TZOFFSETFROM:+0100
TZOFFSETTO:+0200
TZNAME:CEST
DTSTART:20260329T010000
END:DAYLIGHT
BEGIN:STANDARD
TZOFFSETFROM:+0200
TZOFFSETTO:+0100
TZNAME:CET
DTSTART:20261025T010000
END:STANDARD
END:VTIMEZONE
BEGIN:VEVENT
DTSTART;TZID=Europe/Paris:20250925T140000
DTEND;TZID=Europe/Paris:20250925T163000
DTSTAMP:20260420T083448
CREATED:20250901T145818Z
LAST-MODIFIED:20250902T110503Z
UID:2046-1758808800-1758817800@cartoucirc.fr
SUMMARY:Atelier de réparation créative à Toulouse - Cépière-Beauregard
DESCRIPTION:Envie d’une parenthèse créative et utile ?  Rejoignez-nous le jeudi 25 septembre\, de 14h à 16h\, pour un atelier de réparation créative à Toulouse\, organisé par l’association CartouCirc. Cet événement se tiendra à l’espace de vie sociale Cépière-Beauregard\, situé au 17 rue Louison Bobet à Toulouse\, à quelques mètres du LIDL Lardenne. \nVenez découvrir l’art du « visible mending »\, où l’on répare et valorise les vieux vêtements abîmés\, en ajoutant des touches créatives et colorées. Entre les aiguilles et les fils\, nous partagerons un moment convivial autour de la réparation textile\, tout en savourant une boisson chaude.  \n Un atelier pour tou·tes les passionné·es. Que vous soyez novice ou déjà adepte du visible mending\, cet atelier est fait pour vous ! Venez apprendre à donner une seconde vie à vos vêtements usagés \, en les transformant en pièces uniques et originales. Profitez d’une ambiance chaleureuse\, où l’apprentissage ainsi que les échanges créatifs se mêlent dans la bonne humeur.  \n Informations pratiques\nAdhésion obligatoire :  Vous devez être adhérent·e de Cartoucirc pour participer. L’adhésion peut se faire en ligne ou directement sur place.\nInscription préalable :  Les places étant limitées\, pensez à réserver rapidement.\nParticipation :  Prix libre*. Ainsi\, contribuez selon vos moyens pour rendre l’atelier accessible à tous 🙂 \n* Pour info le coût de cet atelier est  de 3h30 de travail salarié (incluant l’organisation\, la préparation\, la communication). Soit une quarantaine d’euros.\nIl est à ce jour financé par le FDVA -Fonds de Développement de la Vie Associative. \n Matériel fourni et autres activités\nTout le matériel nécessaire pour le visible mending sera déjà mis à votre disposition \, mais n’hésitez pas à apporter vos propres vêtements à réparer si vous le souhaitez.  \nNe manquez pas cette opportunité unique de participer à un atelier de réparation créative à Toulouse  et de vivre un moment créatif et utile dans une ambiance conviviale. Venez avec vos vêtements abîmés et repartez avec des pièces rénovées et pleines de nouvelles histoires ! \n  \nAutres ateliers \nN’hésitez pas à consulter notre programmation pour découvrir d’autres ateliers créatifs à venir\, autour du textile et bien plus ! \n 
URL:http://cartoucirc.fr/event/atelier-de-reparation-creative-a-toulouse-cepiere-beauregard/
LOCATION:EVS Beauregard\, 17 rue Louison Bodet\, 31300
CATEGORIES:Animation,Atelier
ATTACH;FMTTYPE=image/jpeg:http://cartoucirc.fr/wp-content/uploads/2025/09/jeans-8314814_1280.jpg
END:VEVENT
END:VCALENDAR