BEGIN:VCALENDAR
VERSION:2.0
PRODID:-//CartouCirc - Ressourcerie de quartier - ECPv6.15.20//NONSGML v1.0//EN
CALSCALE:GREGORIAN
METHOD:PUBLISH
X-ORIGINAL-URL:http://cartoucirc.fr
X-WR-CALDESC:Évènements pour CartouCirc - Ressourcerie de quartier
REFRESH-INTERVAL;VALUE=DURATION:PT1H
X-Robots-Tag:noindex
X-PUBLISHED-TTL:PT1H
BEGIN:VTIMEZONE
TZID:Europe/Paris
BEGIN:DAYLIGHT
TZOFFSETFROM:+0100
TZOFFSETTO:+0200
TZNAME:CEST
DTSTART:20250330T010000
END:DAYLIGHT
BEGIN:STANDARD
TZOFFSETFROM:+0200
TZOFFSETTO:+0100
TZNAME:CET
DTSTART:20251026T010000
END:STANDARD
BEGIN:DAYLIGHT
TZOFFSETFROM:+0100
TZOFFSETTO:+0200
TZNAME:CEST
DTSTART:20260329T010000
END:DAYLIGHT
BEGIN:STANDARD
TZOFFSETFROM:+0200
TZOFFSETTO:+0100
TZNAME:CET
DTSTART:20261025T010000
END:STANDARD
BEGIN:DAYLIGHT
TZOFFSETFROM:+0100
TZOFFSETTO:+0200
TZNAME:CEST
DTSTART:20270328T010000
END:DAYLIGHT
BEGIN:STANDARD
TZOFFSETFROM:+0200
TZOFFSETTO:+0100
TZNAME:CET
DTSTART:20271031T010000
END:STANDARD
END:VTIMEZONE
BEGIN:VEVENT
DTSTART;TZID=Europe/Paris:20260312T180000
DTEND;TZID=Europe/Paris:20260312T200000
DTSTAMP:20260419T221320
CREATED:20250528T140056Z
LAST-MODIFIED:20260310T170024Z
UID:1591-1773338400-1773345600@cartoucirc.fr
SUMMARY:Atelier tricoteur·se : crochet de t-shirt à Toulouse
DESCRIPTION:Les tricoteur·euses : Atelier crochet à Toulouse 🧶✨\nEnvie d’une parenthèse créative et conviviale ? 🌟 Rejoignez-nous tous les 2èmes jeudis\, de 18h à 20h\, pour un atelier crochet à Toulouse\, organisé par CartouCirc. En alternance avec l’atelier réparation visible. Cet événement se tiendra dans l’espace créatif de l’habitat participatif Aux 4 Vents (accès par CartouCirc\, 12 rue Thomas Dupuy 31 300 Toulouse). \nProchaines dates : \n\njeudi 12 mars\njeudi 14 mai\njeudi 11 juin\n\nVenez plonger vos lirettes dans un atelier créatif où les vieux vêtements se métamorphosent en fils\, prêts à être crochetés ou tricotés. Entre deux mailles et quelques gestes partagés\, une tisane réchauffera les cœurs\, tandis que l’on tisse ensemble un moment doux\, rempli de créativité et de seconde vie. 🍵❤️ \nLors de cet atelier\, tricoteur·euses vous apprendrez à fabriquer de la «laine» à partir de vos vieux tee-shirts. Vous apprendrez aussi les bases du crochet !! \n🧵 Un atelier pour tou·tes les passionné·es\nQue vous soyez débutant·e ou expert·e\, cet atelier est fait pour vous ! Venez apprendre à donner une seconde vie à vos vêtements usagés 👕♻️\, en les transformant en accessoires uniques et créatifs. Profitez d’une ambiance conviviale où échanges\, apprentissages et bonne humeur sont au rendez-vous. 😊 \n📋 Informations pratiques\n\nAdhésion obligatoire : 💳 Vous devez être adhérent·e de CartouCirc pour participer. L’adhésion peut se faire en ligne ou directement sur place.\nInscription préalable : 🖊️ Les places étant limitées\, pensez à réserver rapidement.\nParticipation : 💰 Le tarif est libre\, à partir de gratuit\, afin d’être ouvert au plus grand nombre possible. Le tarif conseillé est de 5 € ou gratuit pour les précaires et pour les habitant·es des 4 Vents. Le tarif solidaire conseillé est autour de 10 €.\n\nMatériel fourni\nNous mettons à votre disposition tout le matériel nécessaire 🎨\, mais n’hésitez pas à apporter vos propres vêtements à recycler. 👗 \nNe manquez pas cette opportunité unique de participer à un atelier crochet à Toulouse 🧶 et  ainsi de vivre un moment créatif dans un cadre chaleureux. Venez avec vos idées\, repartez avec des créations et des souvenirs inoubliables ! \nAutres ateliers\nN’hésitez pas à consulter notre programmation pour en savoir plus sur nos activités\, atelier crochet à Toulouse\, mais aussi bijoux et tous autres thèmes à venir.
URL:http://cartoucirc.fr/event/atelier-tisane-lirette-crochet-de-t-shirt-a-toulouse/
LOCATION:Atelier créatif des 4 Vents\, 12 rue Thomas Dupuy\, Toulouse\, 31300\, France
CATEGORIES:Atelier
ATTACH;FMTTYPE=image/png:http://cartoucirc.fr/wp-content/uploads/2025/02/2026-S1-Atelier-Tricoteur·se-site-Internet.png
END:VEVENT
BEGIN:VEVENT
DTSTART;TZID=Europe/Paris:20260319T140000
DTEND;TZID=Europe/Paris:20260319T160000
DTSTAMP:20260419T221320
CREATED:20250306T132829Z
LAST-MODIFIED:20260311T210744Z
UID:1738-1773928800-1773936000@cartoucirc.fr
SUMMARY:Atelier Jardinage : boutures - spécial balcons
DESCRIPTION:Atelier Jardinage : Boutures de printemps\, petits pots et économie circulaire 🌱\nL’arrivée du printemps est l’occasion idéale pour se reconnecter à la nature et apprendre les bons gestes pour faire pousser des plantes tout en respectant l’environnement. Jeudi 19 mars\, l’espace de vie sociale de Cépière – Beauregard\, géré par l’ASSQOT accueille un atelier jardinage original\, placé sous le signe du partage\, de l’économie circulaire et des pratiques respectueuses de la nature. Cet atelier sera en lien avec les jardins partagés du quartier\, mais il se concentre sur le jardinage de balcons ! \nUn atelier pour tous les passionné·es de jardinage 🌿\nDe 14h à 16h\, l’atelier permettra aux participant·es de découvrir les secrets des boutures de printemps. Les boutures\, qui consistent à prélever des morceaux de plantes pour les faire raciner et obtenir de nouvelles pousses\, seront au cœur de cette rencontre. Ces techniques simples et efficaces sont idéales pour multiplier ses plantes sans avoir à acheter constamment de nouveaux pots et semences : géranium\, aloé véra\, chlorophytum\, nombreuses sont les plantes qui peuvent s’échanger. \nMais cet atelier va au-delà du jardinage traditionnel : il s’inscrit dans une démarche d’économie circulaire\, en encourageant la réutilisation et la réduction des déchets. Par exemple\, les petits pots utilisés pour les boutures pourront être recyclés et réutilisés\, offrant ainsi une seconde vie aux objets du quotidien. C’est une belle manière de penser à la planète tout en embellissant son environnement. \nSi vous avez déjà des boutures\, n’hésitez pas à les apporter ! \n📍 Infos pratiques\nLieu : Espace de vie sociale – Cépière – Beauregard  -17 rue Louison Bobet 31300 Toulouse ou Jardins du 40 chemin de Beauregard selon la météo\nDate : Jeudi 19 mars\, de 14h à 16h \nL’atelier est ouvert à tou·tes\, débutant·es comme jardinier·es confirmé·es. Il est recommandé de venir avec des pots vides\, des contenants ou des supports pour les boutures. \n📌 Modalités de participation\n\n💳 Adhésion obligatoire à CartouCirc (à faire en ligne ou sur place).\n🖊️ Inscription requise : contactez-nous pour réserver votre place.\n💰 Tarif  : Prix libre\n\nVenez nombreux pour passer un après-midi au vert\, dans une ambiance chaleureuse et éco-responsable ! 🌸\nPlantes d’intérieur adaptées\n\nLierre (Hedera helix)** 🍃 (très facile en eau ou terre)  \nChlorophytum (plante-araignée) 🌿 (boutures à partir des rejets)  \nSpathiphyllum (fleur de lune)** 🌼 (division de touffes)  \nBégonia 🌸 (tige ou feuille en terre) \n\n \nConsultez notre programmation pour découvrir plus d’ateliers. \nEnvie d’explorer d’autres activités ? Ma Bibliothèque d’Objets\, aussi présente à la Cartoucherie\, propose des Cafés Bricol’\, journées de la réparation et fresques. Consultez leur programmation pour en savoir plus ! 🛠️☕
URL:http://cartoucirc.fr/event/atelier-de-jardinages-sur-le-theme-des-boutures-de-printemps-a-toulouse/
LOCATION:EVS Beauregard\, 17 rue Louison Bodet\, 31300
CATEGORIES:Atelier
ATTACH;FMTTYPE=image/jpeg:http://cartoucirc.fr/wp-content/uploads/2025/03/IMG_20250327_144240-scaled.jpg
END:VEVENT
BEGIN:VEVENT
DTSTART;TZID=Europe/Paris:20260325T173000
DTEND;TZID=Europe/Paris:20260325T193000
DTSTAMP:20260419T221320
CREATED:20250929T191102Z
LAST-MODIFIED:20260402T093034Z
UID:2106-1774459800-1774467000@cartoucirc.fr
SUMMARY:🔗Atelier : re-création de bijoux - Aux 4 Vents
DESCRIPTION:💍 Atelier re-création de bijoux à Toulouse\nTous les 4èmes mercredis du mois\n\n📅 Mercredi 25 mars\, de 17h30 à 19h30\, rejoignez-nous pour un atelier de re-création autour des bijoux chez CartouCirc\, à la Cartoucherie (Toulouse). 💖✨ \n💎 Créer vos propres bijoux 💎\nDécouvrez les créations de notre atelier bijoux\, où des trésors naissent à partir de bijoux cassés\, abîmés ou démodés. ♻️💍 Chaque pièce est transformée avec soin pour lui offrir une nouvelle vie. \nVous aussi\, participez à l’aventure ! Apportez vos bijoux à réparer ou créez-en de nouveaux lors de nos ateliers mensuels animés par Samantha\, bénévole passionnée et Marion\, salariée débutante ! 💕 Repartez avec votre création ou laissez-la à l’association pour soutenir notre démarche solidaire. \nL’idée de ces ateliers est d’être en co-développement\, c’est à dire que l’on apprend ensemble\, en s’entraidant et en se donnant du temps pour progresser. \nVous avez envie d’offrir un bijou unique (ou de vous l’offrir 😉) ? Cet atelier est l’occasion de réparer\, détourner et assembler vos vieux bijoux pour leur donner une seconde vie. \nAtelier ouvert aux débutant·e comme aux expert·es 😆\nAvec une vraie ambition de constituer un groupe auto-géré et auto-gérable. \n🌟 Pourquoi participer à un atelier de re-création bijoux à Toulouse ?\n\nDonner une nouvelle vie à des bijoux cassés ou inutilisés ♻️\nPartager un moment convivial et échanger des idées 🤝\n\n📍 Infos pratiques\nLieu : Atelier créatif Aux 4 Vents  – Accès par CartouCirc\, 12 rue Thomas Dupuy – places limitées à 3 participant·es\nTeatime partagé : on peut apporter de quoi partager\, tisane\, goûter …\nLe matériel nécessaire sera déjà mis à disposition 🛠️\, mais vous pouvez\, si vous le souhaitez\, apporter vos propres bijoux cassés pour les transformer ! \n📌 Modalités de participation\n\n💳 Adhésion obligatoire à CartouCirc (à faire en ligne ou directement sur place).\n🖊️ Inscription requise : contactez-nous pour réserver votre place (limitées aux 3 premières inscriptions)\n💰Prix libre – conseillé  Tarif solidaire et habitant·e des 4 Vents : 5 € / Tarif de soutien : 10 € (à régler sur place).\n⏳ Disponibilité requise : assurez-vous d’être libre aux dates indiquées.\n\nProchaines dates :\n\nMercredi 25 mars\nMercredi 22 avril\nMercredi 27 mai\nMercredi 24 juin\n\nAutres ateliers\nEnvie d’explorer d’autres activités ? Consultez notre programmation. \nMa Bibliothèque d’Objets\, présente dans le quartier de la Cartoucherie\, propose aussi des ateliers : Cafés Bricol’\, Journées de la réparation et Fresques. Consultez leur programmation pour en savoir plus ! 🛠️☕
URL:http://cartoucirc.fr/event/atelier-re-creation-bijoux-toulouse/
LOCATION:Atelier créatif des 4 Vents\, 12 rue Thomas Dupuy\, Toulouse\, 31300\, France
CATEGORIES:Atelier
ATTACH;FMTTYPE=image/png:http://cartoucirc.fr/wp-content/uploads/2025/02/2026-S1-Atelier-bijoux-site-Internet.png
END:VEVENT
END:VCALENDAR