BEGIN:VCALENDAR
VERSION:2.0
PRODID:-//CartouCirc - Ressourcerie de quartier - ECPv6.15.20//NONSGML v1.0//EN
CALSCALE:GREGORIAN
METHOD:PUBLISH
X-WR-CALNAME:CartouCirc - Ressourcerie de quartier
X-ORIGINAL-URL:http://cartoucirc.fr
X-WR-CALDESC:Évènements pour CartouCirc - Ressourcerie de quartier
REFRESH-INTERVAL;VALUE=DURATION:PT1H
X-Robots-Tag:noindex
X-PUBLISHED-TTL:PT1H
BEGIN:VTIMEZONE
TZID:Europe/Paris
BEGIN:DAYLIGHT
TZOFFSETFROM:+0100
TZOFFSETTO:+0200
TZNAME:CEST
DTSTART:20240331T010000
END:DAYLIGHT
BEGIN:STANDARD
TZOFFSETFROM:+0200
TZOFFSETTO:+0100
TZNAME:CET
DTSTART:20241027T010000
END:STANDARD
BEGIN:DAYLIGHT
TZOFFSETFROM:+0100
TZOFFSETTO:+0200
TZNAME:CEST
DTSTART:20250330T010000
END:DAYLIGHT
BEGIN:STANDARD
TZOFFSETFROM:+0200
TZOFFSETTO:+0100
TZNAME:CET
DTSTART:20251026T010000
END:STANDARD
BEGIN:DAYLIGHT
TZOFFSETFROM:+0100
TZOFFSETTO:+0200
TZNAME:CEST
DTSTART:20260329T010000
END:DAYLIGHT
BEGIN:STANDARD
TZOFFSETFROM:+0200
TZOFFSETTO:+0100
TZNAME:CET
DTSTART:20261025T010000
END:STANDARD
END:VTIMEZONE
BEGIN:VEVENT
DTSTART;TZID=Europe/Paris:20250723T110000
DTEND;TZID=Europe/Paris:20250726T190000
DTSTAMP:20260420T234053
CREATED:20250709T065440Z
LAST-MODIFIED:20250710T092641Z
UID:1973-1753268400-1753556400@cartoucirc.fr
SUMMARY:Déstockage Label Emmaüs - du 23 au 26 juillet
DESCRIPTION:🎉 Déstockage de pépites – Rendez-vous du mercredi 23 au samedi 26 juillet !\nNotre mission\, et nous l’avons accepté\, sauver un max d’objets.  \nVous le savez\, nous avons une boutique en ligne sur Label Emmaüs. Nous croyons dans chaque objet que nous mettons en ligne depuis janvier 2023. Mais parfois\, nous avons raté la photo. Ou alors les modes ne laissent pas place à l’histoire\, aux histoires. \nEt puis\, notre vocation est circulaire. Alors\, faisons circuler\, sortons des caisses et donnons aux objets une dernière chance de trouver un foyer avec nous. On vous les proposera à tout petits prix. Puis nous les redonnerons à Emmaüs Toulouse ou à la Glanerie qui à leur tour tenterons de réemployer ces objets pour leurs projets de solidarité. \nAlors cette semaine du 23 au 26 août\, on vous invite à venir adopter un livre plein d’histoire\, une fine porcelaine\, un jouet vintage\, un vase original. \nQue vous soyez habitué·e de la boutique\, brocanteur·euse averti·e\, collectionneur·euse passionné·e ou simplement curieux··se\, les bonnes affaires sont au rendez-vous ! 🔍 \nEt comme on sait que vous êtes impatient·es\, ils sont déjà disponible à -50% sur le site Label Emmaüs ! Voir les articles et n’hésitez pas à passer demander à les voir en boutique. Nous faisons -15% pour tous les retraits sur place. \nNos évènements vous intéressent ? Plus d’infos sur notre programmation
URL:http://cartoucirc.fr/event/destockage-label-emmaus-23-au-26-juillet/
LOCATION:BoutiC CartouCirc\, 12 rue Thomas Duuy\, Toulouse\, 31300\, France
CATEGORIES:Vente éphémère intérieur
ATTACH;FMTTYPE=image/jpeg:http://cartoucirc.fr/wp-content/uploads/2025/07/Visuel-Braderie-Juillet-Site-Web-1.jpg
END:VEVENT
END:VCALENDAR