BEGIN:VCALENDAR
VERSION:2.0
PRODID:-//CartouCirc - Ressourcerie de quartier - ECPv6.15.20//NONSGML v1.0//EN
CALSCALE:GREGORIAN
METHOD:PUBLISH
X-ORIGINAL-URL:http://cartoucirc.fr
X-WR-CALDESC:Évènements pour CartouCirc - Ressourcerie de quartier
REFRESH-INTERVAL;VALUE=DURATION:PT1H
X-Robots-Tag:noindex
X-PUBLISHED-TTL:PT1H
BEGIN:VTIMEZONE
TZID:Europe/Paris
BEGIN:DAYLIGHT
TZOFFSETFROM:+0100
TZOFFSETTO:+0200
TZNAME:CEST
DTSTART:20250330T010000
END:DAYLIGHT
BEGIN:STANDARD
TZOFFSETFROM:+0200
TZOFFSETTO:+0100
TZNAME:CET
DTSTART:20251026T010000
END:STANDARD
BEGIN:DAYLIGHT
TZOFFSETFROM:+0100
TZOFFSETTO:+0200
TZNAME:CEST
DTSTART:20260329T010000
END:DAYLIGHT
BEGIN:STANDARD
TZOFFSETFROM:+0200
TZOFFSETTO:+0100
TZNAME:CET
DTSTART:20261025T010000
END:STANDARD
BEGIN:DAYLIGHT
TZOFFSETFROM:+0100
TZOFFSETTO:+0200
TZNAME:CEST
DTSTART:20270328T010000
END:DAYLIGHT
BEGIN:STANDARD
TZOFFSETFROM:+0200
TZOFFSETTO:+0100
TZNAME:CET
DTSTART:20271031T010000
END:STANDARD
END:VTIMEZONE
BEGIN:VEVENT
DTSTART;TZID=Europe/Paris:20260312T180000
DTEND;TZID=Europe/Paris:20260312T200000
DTSTAMP:20260420T062918
CREATED:20250528T140056Z
LAST-MODIFIED:20260310T170024Z
UID:1591-1773338400-1773345600@cartoucirc.fr
SUMMARY:Atelier tricoteur·se : crochet de t-shirt à Toulouse
DESCRIPTION:Les tricoteur·euses : Atelier crochet à Toulouse 🧶✨\nEnvie d’une parenthèse créative et conviviale ? 🌟 Rejoignez-nous tous les 2èmes jeudis\, de 18h à 20h\, pour un atelier crochet à Toulouse\, organisé par CartouCirc. En alternance avec l’atelier réparation visible. Cet événement se tiendra dans l’espace créatif de l’habitat participatif Aux 4 Vents (accès par CartouCirc\, 12 rue Thomas Dupuy 31 300 Toulouse). \nProchaines dates : \n\njeudi 12 mars\njeudi 14 mai\njeudi 11 juin\n\nVenez plonger vos lirettes dans un atelier créatif où les vieux vêtements se métamorphosent en fils\, prêts à être crochetés ou tricotés. Entre deux mailles et quelques gestes partagés\, une tisane réchauffera les cœurs\, tandis que l’on tisse ensemble un moment doux\, rempli de créativité et de seconde vie. 🍵❤️ \nLors de cet atelier\, tricoteur·euses vous apprendrez à fabriquer de la «laine» à partir de vos vieux tee-shirts. Vous apprendrez aussi les bases du crochet !! \n🧵 Un atelier pour tou·tes les passionné·es\nQue vous soyez débutant·e ou expert·e\, cet atelier est fait pour vous ! Venez apprendre à donner une seconde vie à vos vêtements usagés 👕♻️\, en les transformant en accessoires uniques et créatifs. Profitez d’une ambiance conviviale où échanges\, apprentissages et bonne humeur sont au rendez-vous. 😊 \n📋 Informations pratiques\n\nAdhésion obligatoire : 💳 Vous devez être adhérent·e de CartouCirc pour participer. L’adhésion peut se faire en ligne ou directement sur place.\nInscription préalable : 🖊️ Les places étant limitées\, pensez à réserver rapidement.\nParticipation : 💰 Le tarif est libre\, à partir de gratuit\, afin d’être ouvert au plus grand nombre possible. Le tarif conseillé est de 5 € ou gratuit pour les précaires et pour les habitant·es des 4 Vents. Le tarif solidaire conseillé est autour de 10 €.\n\nMatériel fourni\nNous mettons à votre disposition tout le matériel nécessaire 🎨\, mais n’hésitez pas à apporter vos propres vêtements à recycler. 👗 \nNe manquez pas cette opportunité unique de participer à un atelier crochet à Toulouse 🧶 et  ainsi de vivre un moment créatif dans un cadre chaleureux. Venez avec vos idées\, repartez avec des créations et des souvenirs inoubliables ! \nAutres ateliers\nN’hésitez pas à consulter notre programmation pour en savoir plus sur nos activités\, atelier crochet à Toulouse\, mais aussi bijoux et tous autres thèmes à venir.
URL:http://cartoucirc.fr/event/atelier-tisane-lirette-crochet-de-t-shirt-a-toulouse/
LOCATION:Atelier créatif des 4 Vents\, 12 rue Thomas Dupuy\, Toulouse\, 31300\, France
CATEGORIES:Atelier
ATTACH;FMTTYPE=image/png:http://cartoucirc.fr/wp-content/uploads/2025/02/2026-S1-Atelier-Tricoteur·se-site-Internet.png
END:VEVENT
BEGIN:VEVENT
DTSTART;TZID=Europe/Paris:20260326T170000
DTEND;TZID=Europe/Paris:20260326T190000
DTSTAMP:20260420T062918
CREATED:20250901T133537Z
LAST-MODIFIED:20260324T151711Z
UID:2039-1774544400-1774551600@cartoucirc.fr
SUMMARY:Friperie enfants itinérante à Beauregard - Toulouse
DESCRIPTION:Friperie enfant itinérante à Beauregard – Rendez-vous le jeudi 26 mars\nVous cherchez des vêtements pour enfants à petits prix dans le quartier Beauregard\, à Toulouse ? Venez découvrir notre friperie enfant itinérante le jeudi 26 mars 2026\, de 17h à 19h\, au 40 chemin de Beauregard. \nUne friperie solidaire pour habiller les enfants à petit budget\nNotre objectif est simple : proposer des vêtements pour enfants de qualité\, à des prix accessibles à toutes les familles. Les vêtements proposés proviennent des dons reçus à notre boutique CartouCirc\, afin d’offrir une sélection adaptée aux familles du quartier. \nOù nous trouver ?\n🌲 Sous la pinède du 40 chemin de Beauregard\, si le temps le permet\, sinon à l’intérieur. \n🌦️ En cas de pluie ou de mauvais temps\, nous serons à l’abri dans le local en pied d’immeuble. \nComment venir depuis la Cartoucherie en vélo ?\nDepuis la Cartoucherie\, le quartier Beauregard est accessible en une moins d’une dizaine de minutes : \n\n\n🚲 Longer le parc du Barry. \n\n\nPasser à droite sur le trottoir devant la gare du TOEC. \n\n\nPasser sous la voie ferrée\, puis monter la petite côte à droite. \n\n\nAprès quelques mètres\, prendre le passage à gauche… vous êtes arrivés au 40 chemin de Beauregard ! \n\n\nUn trajet simple et agréable\, idéal pour venir avant les sorties d’école et de crèche ! \n \nPourquoi une friperie itinérante ?\nEn attendant de trouver un local fixe dans le quartier\, nous allons directement à la rencontre des habitant·es grâce à cette friperie mobile. Ce format nous permet de : \n– faciliter l’accès aux vêtements de seconde main pour les familles\,\n– sensibiliser au réemploi textile et à l’économie circulaire\,\n– créer un moment convivial et solidaire dans le quartier. \nEn partenariat avec l’espace de vie sociale\nCet événement\, une friperie enfant à Toulouse\, est organisé en partenariat avec l’espace de vie sociale géré par l’ASSQOT. Ensemble\, nous souhaitons renforcer le lien social et proposer aux familles des solutions concrètes et accessibles. \nInfos pratiques\n📍 Adresse friperie : 40 chemin de Beauregard\, Toulouse📅 Date : jeudi 25 mars 2026🕑 Horaires : 17h – 19h👕 Vêtements enfants à prix solidaire \n\n👉 Venez nombreux le 25 mars pour profiter de cette vente de vêtements pour enfants pas chers à Beauregard et soutenir une initiative locale et solidaire ! \nFriperie solidaire Beauregard de juillet 2025
URL:http://cartoucirc.fr/event/friperie-enfant-itinerante-a-beauregard/
LOCATION:Jardins / résidence Beauregard\, 40 chemin de Beauregard\, Toulouse\, 31300\, France
CATEGORIES:Marché,Vente éphémère extérieur,Vente éphémère intérieur
ATTACH;FMTTYPE=image/png:http://cartoucirc.fr/wp-content/uploads/2025/07/friperie-solidaire-scaled.png
END:VEVENT
END:VCALENDAR