BEGIN:VCALENDAR
VERSION:2.0
PRODID:-//CartouCirc - Ressourcerie de quartier - ECPv6.15.20//NONSGML v1.0//EN
CALSCALE:GREGORIAN
METHOD:PUBLISH
X-ORIGINAL-URL:http://cartoucirc.fr
X-WR-CALDESC:Évènements pour CartouCirc - Ressourcerie de quartier
REFRESH-INTERVAL;VALUE=DURATION:PT1H
X-Robots-Tag:noindex
X-PUBLISHED-TTL:PT1H
BEGIN:VTIMEZONE
TZID:Europe/Paris
BEGIN:DAYLIGHT
TZOFFSETFROM:+0100
TZOFFSETTO:+0200
TZNAME:CEST
DTSTART:20250330T010000
END:DAYLIGHT
BEGIN:STANDARD
TZOFFSETFROM:+0200
TZOFFSETTO:+0100
TZNAME:CET
DTSTART:20251026T010000
END:STANDARD
BEGIN:DAYLIGHT
TZOFFSETFROM:+0100
TZOFFSETTO:+0200
TZNAME:CEST
DTSTART:20260329T010000
END:DAYLIGHT
BEGIN:STANDARD
TZOFFSETFROM:+0200
TZOFFSETTO:+0100
TZNAME:CET
DTSTART:20261025T010000
END:STANDARD
BEGIN:DAYLIGHT
TZOFFSETFROM:+0100
TZOFFSETTO:+0200
TZNAME:CEST
DTSTART:20270328T010000
END:DAYLIGHT
BEGIN:STANDARD
TZOFFSETFROM:+0200
TZOFFSETTO:+0100
TZNAME:CET
DTSTART:20271031T010000
END:STANDARD
END:VTIMEZONE
BEGIN:VEVENT
DTSTART;TZID=Europe/Paris:20260122T170000
DTEND;TZID=Europe/Paris:20260122T190000
DTSTAMP:20260420T135659
CREATED:20250709T202520Z
LAST-MODIFIED:20260107T212229Z
UID:1972-1769101200-1769108400@cartoucirc.fr
SUMMARY:Friperie itinérante à Beauregard - Mieux que les soldes !
DESCRIPTION:🧺 Friperie itinérante à Beauregard : venez chiner malin ! 🧥👗 \nLe jeudi 22 janvier de 17h à 19h\, CartouCirc débarque à l’Espace de Vie Sociale Beauregard (ASSQOT)\, au 40 chemin de Beauregard avec sa friperie itinérante ! \nAnimée par Lise\, Lou et avec Galicia pour Oxfam qui nous sensibilisera aux conséquences de la fast-fashion. \n👕 Pulls à 2€👖 Pantalons\, shorts\, jupes\, chemises à 2€👗 Robes et chaussures à 3€ \nUne belle occasion de refaire sa garde-robe sans se ruiner\, tout en soutenant une initiative locale\, solidaire et éco-responsable 🌿 \n📍 Rendez-vous au 40 chemin de Beauregard — on a hâte de vous y retrouver ! \nNos évènements vous intéressent ? Plus d’infos sur notre programmation
URL:http://cartoucirc.fr/event/friperie-itinerante-a-beauregard/
LOCATION:Jardins / résidence Beauregard\, 40 chemin de Beauregard\, Toulouse\, 31300\, France
CATEGORIES:Vente éphémère extérieur
ATTACH;FMTTYPE=image/png:http://cartoucirc.fr/wp-content/uploads/2025/07/friperie-solidaire-scaled.png
END:VEVENT
END:VCALENDAR