BEGIN:VCALENDAR
VERSION:2.0
PRODID:-//CartouCirc - Ressourcerie de quartier - ECPv6.15.20//NONSGML v1.0//EN
CALSCALE:GREGORIAN
METHOD:PUBLISH
X-WR-CALNAME:CartouCirc - Ressourcerie de quartier
X-ORIGINAL-URL:http://cartoucirc.fr
X-WR-CALDESC:Évènements pour CartouCirc - Ressourcerie de quartier
REFRESH-INTERVAL;VALUE=DURATION:PT1H
X-Robots-Tag:noindex
X-PUBLISHED-TTL:PT1H
BEGIN:VTIMEZONE
TZID:Europe/Paris
BEGIN:DAYLIGHT
TZOFFSETFROM:+0100
TZOFFSETTO:+0200
TZNAME:CEST
DTSTART:20240331T010000
END:DAYLIGHT
BEGIN:STANDARD
TZOFFSETFROM:+0200
TZOFFSETTO:+0100
TZNAME:CET
DTSTART:20241027T010000
END:STANDARD
BEGIN:DAYLIGHT
TZOFFSETFROM:+0100
TZOFFSETTO:+0200
TZNAME:CEST
DTSTART:20250330T010000
END:DAYLIGHT
BEGIN:STANDARD
TZOFFSETFROM:+0200
TZOFFSETTO:+0100
TZNAME:CET
DTSTART:20251026T010000
END:STANDARD
BEGIN:DAYLIGHT
TZOFFSETFROM:+0100
TZOFFSETTO:+0200
TZNAME:CEST
DTSTART:20260329T010000
END:DAYLIGHT
BEGIN:STANDARD
TZOFFSETFROM:+0200
TZOFFSETTO:+0100
TZNAME:CET
DTSTART:20261025T010000
END:STANDARD
END:VTIMEZONE
BEGIN:VEVENT
DTSTART;TZID=Europe/Paris:20250613T193000
DTEND;TZID=Europe/Paris:20250613T220000
DTSTAMP:20260421T133902
CREATED:20250528T162243Z
LAST-MODIFIED:20250528T164117Z
UID:1930-1749843000-1749852000@cartoucirc.fr
SUMMARY:Fête des adhérent·es et bénévoles de CartouCirc
DESCRIPTION:Chères adhérentes\, chers adhérents\,\nNous avons le plaisir de vous inviter à la fête des adhérent·es de CartouCirc\, qui aura lieu le vendredi 13 juin de 19h30 à 22h\, dans un lieu extraordinaire\, le même que l’an dernier !\n L’adresse exacte sera communiquée aux personnes inscrites.\n\nPour partager ce moment festif\, nous vous proposons un repas partagé : chacun·e apporte un plat ou une boisson à mettre en commun (fait maison ou non\, sucré ou salé\, tout est bienvenu).\nL’idée est simple : on dresse une grande table collective\, et on partage ce que chacun·e a apporté dans un esprit de convivialité.\n\nCette soirée est l’occasion de :\n\n\nse retrouver entre adhérent·es\,\nrencontrer les voisin·es du quartier\,\nfaire connaissance au-delà de la ressourcerie\,\net célébrer ensemble les belles dynamiques que vous contribuez à faire vivre.\n\n\n Merci d’arriver entre 19h30 et 20h : après 20h\, l’accès au lieu ne sera plus possible pour des raisons d’organisation.\nLa soirée est réservée aux adhérent·es et vous pouvez passer en boutique pour vérifier votre adhésion et la régulariser le cas échéant.\n\n Merci aussi de nous dire si vous pensez venir\, et si vous serez accompagné·e : cela nous aidera à prévoir au mieux l’organisation.\n\nOn a hâte de vous retrouver pour cette soirée placée sous le signe du partage et de la rencontre !\n\nÀ très bientôt\,\nL’équipe de CartouCirc
URL:http://cartoucirc.fr/event/fete-des-adherent%c2%b7es-et-benevoles-de-cartoucirc/
LOCATION:BoutiC CartouCirc\, 12 rue Thomas Duuy\, Toulouse\, 31300\, France
CATEGORIES:Animation
ATTACH;FMTTYPE=image/jpeg:http://cartoucirc.fr/wp-content/uploads/2025/05/IMG_3682-1-scaled.jpeg
END:VEVENT
END:VCALENDAR