BEGIN:VCALENDAR
VERSION:2.0
PRODID:-//CartouCirc - Ressourcerie de quartier - ECPv6.15.20//NONSGML v1.0//EN
CALSCALE:GREGORIAN
METHOD:PUBLISH
X-ORIGINAL-URL:http://cartoucirc.fr
X-WR-CALDESC:Évènements pour CartouCirc - Ressourcerie de quartier
REFRESH-INTERVAL;VALUE=DURATION:PT1H
X-Robots-Tag:noindex
X-PUBLISHED-TTL:PT1H
BEGIN:VTIMEZONE
TZID:Europe/Paris
BEGIN:DAYLIGHT
TZOFFSETFROM:+0100
TZOFFSETTO:+0200
TZNAME:CEST
DTSTART:20210328T010000
END:DAYLIGHT
BEGIN:STANDARD
TZOFFSETFROM:+0200
TZOFFSETTO:+0100
TZNAME:CET
DTSTART:20211031T010000
END:STANDARD
BEGIN:DAYLIGHT
TZOFFSETFROM:+0100
TZOFFSETTO:+0200
TZNAME:CEST
DTSTART:20220327T010000
END:DAYLIGHT
BEGIN:STANDARD
TZOFFSETFROM:+0200
TZOFFSETTO:+0100
TZNAME:CET
DTSTART:20221030T010000
END:STANDARD
BEGIN:DAYLIGHT
TZOFFSETFROM:+0100
TZOFFSETTO:+0200
TZNAME:CEST
DTSTART:20230326T010000
END:DAYLIGHT
BEGIN:STANDARD
TZOFFSETFROM:+0200
TZOFFSETTO:+0100
TZNAME:CET
DTSTART:20231029T010000
END:STANDARD
END:VTIMEZONE
BEGIN:VEVENT
DTSTART;TZID=Europe/Paris:20221209T173000
DTEND;TZID=Europe/Paris:20221209T200000
DTSTAMP:20260422T091916
CREATED:20221202T024441Z
LAST-MODIFIED:20221229T135735Z
UID:304-1670607000-1670616000@cartoucirc.fr
SUMMARY:Fête des lumières - Enguirlandons la l'écoquartier de la Cartoucherie
DESCRIPTION:Et si on illuminait votre Noël ? \nPrésentation de l’association et vente à prix libre de décorations de Noël pour vos intérieurs. \nPlaisirs des yeux pour les petits et grands. \nL’évènement est organisé par la mairie de Toulouse et Oppidéa. \nSont conviés le comité de quartier et l’association des commerçants. \n… Et finalement on est allés accrochés des guirlandes et boules de Noël dans le quartier. Elles ont toutes disparu 😉 \n  \n\n			\n				\n			\n			\n				\n			\n			\n				\n			\n			\n				\n			\n			\n				\n			\n			\n				\n			\n		\n\n  \n 
URL:http://cartoucirc.fr/event/fete-des-lumieres/
LOCATION:Place de la Charte des Libertés Communales dite place de la Halle\, Place de la Charte des Libertés Communales\, Toulouse\, 31300\, France
CATEGORIES:Scénographie,Vente éphémère extérieur,Vente éphémère intérieur
ATTACH;FMTTYPE=image/jpeg:http://cartoucirc.fr/wp-content/uploads/2022/12/IMG_20221213_144631-1-scaled.jpg
END:VEVENT
END:VCALENDAR