BEGIN:VCALENDAR
VERSION:2.0
PRODID:-//CartouCirc - Ressourcerie de quartier - ECPv6.15.20//NONSGML v1.0//EN
CALSCALE:GREGORIAN
METHOD:PUBLISH
X-ORIGINAL-URL:https://cartoucirc.fr
X-WR-CALDESC:Évènements pour CartouCirc - Ressourcerie de quartier
REFRESH-INTERVAL;VALUE=DURATION:PT1H
X-Robots-Tag:noindex
X-PUBLISHED-TTL:PT1H
BEGIN:VTIMEZONE
TZID:Europe/Paris
BEGIN:DAYLIGHT
TZOFFSETFROM:+0100
TZOFFSETTO:+0200
TZNAME:CEST
DTSTART:20240331T010000
END:DAYLIGHT
BEGIN:STANDARD
TZOFFSETFROM:+0200
TZOFFSETTO:+0100
TZNAME:CET
DTSTART:20241027T010000
END:STANDARD
BEGIN:DAYLIGHT
TZOFFSETFROM:+0100
TZOFFSETTO:+0200
TZNAME:CEST
DTSTART:20250330T010000
END:DAYLIGHT
BEGIN:STANDARD
TZOFFSETFROM:+0200
TZOFFSETTO:+0100
TZNAME:CET
DTSTART:20251026T010000
END:STANDARD
BEGIN:DAYLIGHT
TZOFFSETFROM:+0100
TZOFFSETTO:+0200
TZNAME:CEST
DTSTART:20260329T010000
END:DAYLIGHT
BEGIN:STANDARD
TZOFFSETFROM:+0200
TZOFFSETTO:+0100
TZNAME:CET
DTSTART:20261025T010000
END:STANDARD
END:VTIMEZONE
BEGIN:VEVENT
DTSTART;TZID=Europe/Paris:20250110T180000
DTEND;TZID=Europe/Paris:20250110T220000
DTSTAMP:20260422T001539
CREATED:20250121T173402Z
LAST-MODIFIED:20250121T225407Z
UID:1636-1736532000-1736546400@cartoucirc.fr
SUMMARY:Repas des bénévoles
DESCRIPTION:✨ Repas des bénévoles : une soirée pleine de sourires et de bons moments ! ✨\n\n\n\n\n\n\n\n\n\nVendredi 10 janvier\, nous avons eu le plaisir de nous retrouver pour notre traditionnel repas des bénévoles. Rien de mieux pour renforcer nos liens que de savourer un délicieux couscous et des galettes des rois généreusement préparés par une équipe de choc : Hélène\, Kader\, Nadine et Halima aux louches et saladiers 🥘🍰. Un vrai festin qui a régalé tout le monde et mis tout le monde de bonne humeur ! Merci à Mélanie pour l’accueil dans la salle commune de la résidence Id’Halles ! \nCe fut l’occasion idéale pour toute l’équipe et nos bénévoles de dire au revoir à 2024 et de célébrer l’arrivée de la nouvelle année dans la bonne humeur 🎉. Ces moments partagés autour d’une table sont toujours précieux\, car ils nous permettent de nous retrouver et de renforcer l’esprit d’équipe. \nNous avons aussi eu un moment émouvant en disant au revoir à Manon\, qui a terminé son service civique. Un grand merci à elle pour son engagement\, son travail et sa bonne humeur durant toute l’année 💐 ! Et pour bien démarrer 2025\, nous avons eu la chance de présenter Eden\, notre nouvelle recrue\, qui prendra la relève avec enthousiasme et énergie 👏. Bienvenue à bord\, Eden ! \nPetit bonheur supplémentaire : nous avons rencontré le tout petit bout d’chou de Mamé-Asta\, né quelques jours avant 👶💕 \nCe repas était bien plus qu’un simple moment de convivialité\, c’était aussi l’occasion de faire le point sur les belles aventures passées et de se projeter dans celles à venir. Merci à toutes et touss pour votre présence et votre énergie\, c’est grâce à vous que notre belle équipe continue de grandir ! \n📸 Pour revivre ces instants joyeux\, retrouvez quelques images sur notre Instagram :\n👉 Instagram \nÀ très vite pour de nouvelles aventures ! 🤗✨ \nhttp://cartoucirc.fr/wp-content/uploads/2025/01/VID_20250110_feteBenevoles.mp4
URL:https://cartoucirc.fr/event/repas-des-benevoles/
CATEGORIES:Animation
ATTACH;FMTTYPE=image/jpeg:https://cartoucirc.fr/wp-content/uploads/2025/01/IMG-20250110-WA0014.jpg
END:VEVENT
END:VCALENDAR