BEGIN:VCALENDAR
VERSION:2.0
PRODID:-//CartouCirc - Ressourcerie de quartier - ECPv6.15.20//NONSGML v1.0//EN
CALSCALE:GREGORIAN
METHOD:PUBLISH
X-WR-CALNAME:CartouCirc - Ressourcerie de quartier
X-ORIGINAL-URL:https://cartoucirc.fr
X-WR-CALDESC:Évènements pour CartouCirc - Ressourcerie de quartier
REFRESH-INTERVAL;VALUE=DURATION:PT1H
X-Robots-Tag:noindex
X-PUBLISHED-TTL:PT1H
BEGIN:VTIMEZONE
TZID:Europe/Paris
BEGIN:DAYLIGHT
TZOFFSETFROM:+0100
TZOFFSETTO:+0200
TZNAME:CEST
DTSTART:20230326T010000
END:DAYLIGHT
BEGIN:STANDARD
TZOFFSETFROM:+0200
TZOFFSETTO:+0100
TZNAME:CET
DTSTART:20231029T010000
END:STANDARD
BEGIN:DAYLIGHT
TZOFFSETFROM:+0100
TZOFFSETTO:+0200
TZNAME:CEST
DTSTART:20240331T010000
END:DAYLIGHT
BEGIN:STANDARD
TZOFFSETFROM:+0200
TZOFFSETTO:+0100
TZNAME:CET
DTSTART:20241027T010000
END:STANDARD
BEGIN:DAYLIGHT
TZOFFSETFROM:+0100
TZOFFSETTO:+0200
TZNAME:CEST
DTSTART:20250330T010000
END:DAYLIGHT
BEGIN:STANDARD
TZOFFSETFROM:+0200
TZOFFSETTO:+0100
TZNAME:CET
DTSTART:20251026T010000
END:STANDARD
END:VTIMEZONE
BEGIN:VEVENT
DTSTART;TZID=Europe/Paris:20240330T110000
DTEND;TZID=Europe/Paris:20240330T183000
DTSTAMP:20260422T001711
CREATED:20240328T170942Z
LAST-MODIFIED:20240329T212923Z
UID:1065-1711796400-1711823400@cartoucirc.fr
SUMMARY:Chasse aux œufs dans la BoutiC
DESCRIPTION:Pour Pâques on organise une chasse aux œufs à la Cartoucherie\, dans la Boutic CartouCirc\, à 50 mètres des Halles de la Cartoucherie. Voir plan \nSi vous chinez bien\, vous gagnez des œufs en chocolat ! \nPour votre santé\, mangez équilibré et sachez vous faire des petits plaisirs 😉 \n 
URL:https://cartoucirc.fr/event/chasse-aux-oeufs-dans-la-boutic/
LOCATION:BoutiC CartouCirc\, 12 rue Thomas Duuy\, Toulouse\, 31300\, France
CATEGORIES:Animation,BoutiC,Scénographie
ATTACH;FMTTYPE=image/png:https://cartoucirc.fr/wp-content/uploads/2024/03/2.png
END:VEVENT
END:VCALENDAR