BEGIN:VCALENDAR
VERSION:2.0
PRODID:-//CartouCirc - Ressourcerie de quartier - ECPv6.15.20//NONSGML v1.0//EN
CALSCALE:GREGORIAN
METHOD:PUBLISH
X-WR-CALNAME:CartouCirc - Ressourcerie de quartier
X-ORIGINAL-URL:https://cartoucirc.fr
X-WR-CALDESC:Évènements pour CartouCirc - Ressourcerie de quartier
REFRESH-INTERVAL;VALUE=DURATION:PT1H
X-Robots-Tag:noindex
X-PUBLISHED-TTL:PT1H
BEGIN:VTIMEZONE
TZID:Europe/Paris
BEGIN:DAYLIGHT
TZOFFSETFROM:+0100
TZOFFSETTO:+0200
TZNAME:CEST
DTSTART:20230326T010000
END:DAYLIGHT
BEGIN:STANDARD
TZOFFSETFROM:+0200
TZOFFSETTO:+0100
TZNAME:CET
DTSTART:20231029T010000
END:STANDARD
BEGIN:DAYLIGHT
TZOFFSETFROM:+0100
TZOFFSETTO:+0200
TZNAME:CEST
DTSTART:20240331T010000
END:DAYLIGHT
BEGIN:STANDARD
TZOFFSETFROM:+0200
TZOFFSETTO:+0100
TZNAME:CET
DTSTART:20241027T010000
END:STANDARD
BEGIN:DAYLIGHT
TZOFFSETFROM:+0100
TZOFFSETTO:+0200
TZNAME:CEST
DTSTART:20250330T010000
END:DAYLIGHT
BEGIN:STANDARD
TZOFFSETFROM:+0200
TZOFFSETTO:+0100
TZNAME:CET
DTSTART:20251026T010000
END:STANDARD
END:VTIMEZONE
BEGIN:VEVENT
DTSTART;TZID=Europe/Paris:20240724T170000
DTEND;TZID=Europe/Paris:20240724T190000
DTSTAMP:20260421T163706
CREATED:20240703T122322Z
LAST-MODIFIED:20240703T144236Z
UID:1310-1721840400-1721847600@cartoucirc.fr
SUMMARY:Lectures : vacances et voyages
DESCRIPTION:CartouCirc organise un atelier de lectures autour des thèmes suivants : les vacances et les voyages. L’atelier aura lieu le mercredi 24 juillet entre 17h et 19h dans la BoutiC. \nLucie et Paolo\, lecteur·rices de CartouCirc sélectionneront quelques livres ou passages et vous inviteront à faire de même. \nLes livres proposés seront à prix libre. \nVous aimez lire de manière assidue ou ponctuelle ? Cet atelier est fait pour vous. \nVenez explorer des genres littéraires variés et découvrir de nouveaux auteurs. Partagez vos impressions et écoutez celles des autres participant·es dans une ambiance chaleureuse. Profitez de ce moment pour vous connecter avec d’autres amateur·ices de lecture du quartier. \nLes modalités de participation : \n\nêtre adhérent·e chez CartouCirc (si ce n’est pas le cas\, vous pouvez le faire en passant nous voir à la BoutiC ou via le site en cliquant ici);\ninscrivez-vous en cliquant ici et remplissez le formulaire;\nparticipation à prix libre;\ns’assurer d’être disponible le 24 juillet entre 17h et 19h\n\n\nCartouCirc organise plusieurs ateliers créatifs pour le mois de juillet n’hésitez pas à consulter notre programmation. \n\n==> Inscriptions \n5 places seulement\, dépêchez vous !
URL:https://cartoucirc.fr/event/lectures-vacances-et-voyages/
LOCATION:BoutiC CartouCirc\, 12 rue Thomas Duuy\, Toulouse\, 31300\, France
CATEGORIES:Animation,Atelier
ATTACH;FMTTYPE=image/png:https://cartoucirc.fr/wp-content/uploads/2024/07/Programmation-Juillet-Carre-lecture.png
END:VEVENT
END:VCALENDAR