BEGIN:VCALENDAR
VERSION:2.0
PRODID:-//CartouCirc - Ressourcerie de quartier - ECPv6.15.20//NONSGML v1.0//EN
CALSCALE:GREGORIAN
METHOD:PUBLISH
X-ORIGINAL-URL:https://cartoucirc.fr
X-WR-CALDESC:Évènements pour CartouCirc - Ressourcerie de quartier
REFRESH-INTERVAL;VALUE=DURATION:PT1H
X-Robots-Tag:noindex
X-PUBLISHED-TTL:PT1H
BEGIN:VTIMEZONE
TZID:Europe/Paris
BEGIN:DAYLIGHT
TZOFFSETFROM:+0100
TZOFFSETTO:+0200
TZNAME:CEST
DTSTART:20230326T010000
END:DAYLIGHT
BEGIN:STANDARD
TZOFFSETFROM:+0200
TZOFFSETTO:+0100
TZNAME:CET
DTSTART:20231029T010000
END:STANDARD
BEGIN:DAYLIGHT
TZOFFSETFROM:+0100
TZOFFSETTO:+0200
TZNAME:CEST
DTSTART:20240331T010000
END:DAYLIGHT
BEGIN:STANDARD
TZOFFSETFROM:+0200
TZOFFSETTO:+0100
TZNAME:CET
DTSTART:20241027T010000
END:STANDARD
BEGIN:DAYLIGHT
TZOFFSETFROM:+0100
TZOFFSETTO:+0200
TZNAME:CEST
DTSTART:20250330T010000
END:DAYLIGHT
BEGIN:STANDARD
TZOFFSETFROM:+0200
TZOFFSETTO:+0100
TZNAME:CET
DTSTART:20251026T010000
END:STANDARD
END:VTIMEZONE
BEGIN:VEVENT
DTSTART;TZID=Europe/Paris:20241218T103000
DTEND;TZID=Europe/Paris:20241224T190000
DTSTAMP:20260422T001847
CREATED:20241216T124707Z
LAST-MODIFIED:20241217T111257Z
UID:1564-1734517800-1735066800@cartoucirc.fr
SUMMARY:Emballages cadeaux furoshiki
DESCRIPTION:🎁 Un Noël zéro déchet à Toulouse avec CartouCirc et l’art du Furoshiki ! 🌿✨\n📅 Quand ? Mercredi 18\, Lundi 23 et Mardi 24 décembre\n📍 Où ? Carrefour Purpan\, devant la boutique Lutin Vert & CartouCirc\, dans la galerie commerciale (côté Action)\, à 2km de la Cartoucherie \nLise et les bénévoles de CartouCirc se chargent d’emballer vos cadeaux avec l’art du furoshiki ! 🧵🎀 \n👉 Vous en avez marre de voir les enfants déchirer du papier cadeau\, qui finit directement à la poubelle ? Optez pour un emballage résistant et réutilisable\, comme du tissu\, un torchon ou une chute de tissu qui peut être utilisé encore et encore\, plutôt que d’être jeté après un usage unique. \n🎁 Repartez avec un emballage furoshiki aussi joli que le cadeau qu’il protège\, et faites de chaque présent un geste pour la planète. Si ça vous plait\, nous continuerons les furoshikis tout au long de l’année dans notre boutique de la Cartoucherie à Toulouse \nVoir nos autres ateliers \nhttp://cartoucirc.fr/wp-content/uploads/2024/12/VID_20241216_042920_901.mp4\nHistoire du furoshiki\nLe furoshiki est bien plus qu’un simple morceau de tissu. Originaire du Japon\, cette technique d’emballage remonte à l’époque Nara (710-794). Le furoshiki était utilisé pour protéger des objets précieux dans des temples bouddhistes. Le terme « furoshiki » lui-même trouve son origine au 14ᵉ siècle\, sous l’ère Edo. Il servait à emballer et transporter vêtements et affaires personnelles lors de visites aux bains publics (« furo » signifiant bain). \nAu fil du temps\, le furoshiki est devenu un symbole de praticité et d’élégance au Japon. Plus qu’une méthode d’emballage\, il incarne un mode de vie respectueux de l’environnement. Contrairement aux papiers d’emballage ou aux sacs plastiques\, le furoshiki est conçu pour être réutilisé encore et encore. Il réduit ainsi considérablement les déchets. \nPourquoi le furoshiki est-il durable ?\n\nRéutilisable et polyvalent : Un furoshiki peut servir à emballer des cadeaux\, transporter des courses\, ou même devenir un accessoire de mode.\nÉcologique : Fabriqué en tissu\, souvent à partir de matières naturelles comme le coton ou la soie\, il élimine la nécessité d’utiliser des matériaux jetables.\nDurable dans le temps : Contrairement au papier qui se déchire\, un furoshiki bien entretenu peut durer des années.\n\nLe Furoshiki arrive à Toulouse\, au cœur de la Cartoucherie \nÀ Toulouse\, le quartier de la Cartoucherie\, connu pour son esprit éco-responsable et créatif\, est l’endroit idéal pour s’initier à l’art du furoshiki. De plus en plus d’ateliers locaux proposent d’apprendre les techniques de pliage traditionnelles. Ces rencontres sont l’occasion parfaite de découvrir comment allier esthétisme\, tradition\, et écologie au quotidien. \nVous pouvez également trouver des boutiques dans la Cartoucherie qui mettent en avant des tissus furoshiki aux motifs traditionnels japonais ou modernes\, parfaits pour vos cadeaux ou pour un usage personnel. \nEn adoptant le furoshiki\, vous participez à un mouvement mondial qui cherche à réduire les déchets et à promouvoir un mode de vie plus respectueux de l’environnement. C’est une petite action qui peut avoir un grand impact\, tout en apportant une touche d’élégance et de raffinement à vos habitudes quotidiennes.
URL:https://cartoucirc.fr/event/emballages-cadeaux-furoshiki/
LOCATION:Carrefour Purpan
CATEGORIES:Animation,BoutiC,Vente éphémère intérieur
ATTACH;FMTTYPE=image/png:https://cartoucirc.fr/wp-content/uploads/2024/12/202412-AtelierFuroshiki.png
END:VEVENT
END:VCALENDAR