BEGIN:VCALENDAR
VERSION:2.0
PRODID:-//CartouCirc - Ressourcerie de quartier - ECPv6.15.20//NONSGML v1.0//EN
CALSCALE:GREGORIAN
METHOD:PUBLISH
X-WR-CALNAME:CartouCirc - Ressourcerie de quartier
X-ORIGINAL-URL:https://cartoucirc.fr
X-WR-CALDESC:Évènements pour CartouCirc - Ressourcerie de quartier
REFRESH-INTERVAL;VALUE=DURATION:PT1H
X-Robots-Tag:noindex
X-PUBLISHED-TTL:PT1H
BEGIN:VTIMEZONE
TZID:Europe/Paris
BEGIN:DAYLIGHT
TZOFFSETFROM:+0100
TZOFFSETTO:+0200
TZNAME:CEST
DTSTART:20240331T010000
END:DAYLIGHT
BEGIN:STANDARD
TZOFFSETFROM:+0200
TZOFFSETTO:+0100
TZNAME:CET
DTSTART:20241027T010000
END:STANDARD
BEGIN:DAYLIGHT
TZOFFSETFROM:+0100
TZOFFSETTO:+0200
TZNAME:CEST
DTSTART:20250330T010000
END:DAYLIGHT
BEGIN:STANDARD
TZOFFSETFROM:+0200
TZOFFSETTO:+0100
TZNAME:CET
DTSTART:20251026T010000
END:STANDARD
BEGIN:DAYLIGHT
TZOFFSETFROM:+0100
TZOFFSETTO:+0200
TZNAME:CEST
DTSTART:20260329T010000
END:DAYLIGHT
BEGIN:STANDARD
TZOFFSETFROM:+0200
TZOFFSETTO:+0100
TZNAME:CET
DTSTART:20261025T010000
END:STANDARD
BEGIN:DAYLIGHT
TZOFFSETFROM:+0100
TZOFFSETTO:+0200
TZNAME:CEST
DTSTART:20270328T010000
END:DAYLIGHT
BEGIN:STANDARD
TZOFFSETFROM:+0200
TZOFFSETTO:+0100
TZNAME:CET
DTSTART:20271031T010000
END:STANDARD
END:VTIMEZONE
BEGIN:VEVENT
DTSTART;TZID=Europe/Paris:20250925T140000
DTEND;TZID=Europe/Paris:20250925T163000
DTSTAMP:20260421T145927
CREATED:20250901T145818Z
LAST-MODIFIED:20250902T110503Z
UID:2046-1758808800-1758817800@cartoucirc.fr
SUMMARY:Atelier de réparation créative à Toulouse - Cépière-Beauregard
DESCRIPTION:Envie d’une parenthèse créative et utile ?  Rejoignez-nous le jeudi 25 septembre\, de 14h à 16h\, pour un atelier de réparation créative à Toulouse\, organisé par l’association CartouCirc. Cet événement se tiendra à l’espace de vie sociale Cépière-Beauregard\, situé au 17 rue Louison Bobet à Toulouse\, à quelques mètres du LIDL Lardenne. \nVenez découvrir l’art du « visible mending »\, où l’on répare et valorise les vieux vêtements abîmés\, en ajoutant des touches créatives et colorées. Entre les aiguilles et les fils\, nous partagerons un moment convivial autour de la réparation textile\, tout en savourant une boisson chaude.  \n Un atelier pour tou·tes les passionné·es. Que vous soyez novice ou déjà adepte du visible mending\, cet atelier est fait pour vous ! Venez apprendre à donner une seconde vie à vos vêtements usagés \, en les transformant en pièces uniques et originales. Profitez d’une ambiance chaleureuse\, où l’apprentissage ainsi que les échanges créatifs se mêlent dans la bonne humeur.  \n Informations pratiques\nAdhésion obligatoire :  Vous devez être adhérent·e de Cartoucirc pour participer. L’adhésion peut se faire en ligne ou directement sur place.\nInscription préalable :  Les places étant limitées\, pensez à réserver rapidement.\nParticipation :  Prix libre*. Ainsi\, contribuez selon vos moyens pour rendre l’atelier accessible à tous 🙂 \n* Pour info le coût de cet atelier est  de 3h30 de travail salarié (incluant l’organisation\, la préparation\, la communication). Soit une quarantaine d’euros.\nIl est à ce jour financé par le FDVA -Fonds de Développement de la Vie Associative. \n Matériel fourni et autres activités\nTout le matériel nécessaire pour le visible mending sera déjà mis à votre disposition \, mais n’hésitez pas à apporter vos propres vêtements à réparer si vous le souhaitez.  \nNe manquez pas cette opportunité unique de participer à un atelier de réparation créative à Toulouse  et de vivre un moment créatif et utile dans une ambiance conviviale. Venez avec vos vêtements abîmés et repartez avec des pièces rénovées et pleines de nouvelles histoires ! \n  \nAutres ateliers \nN’hésitez pas à consulter notre programmation pour découvrir d’autres ateliers créatifs à venir\, autour du textile et bien plus ! \n 
URL:https://cartoucirc.fr/event/atelier-de-reparation-creative-a-toulouse-cepiere-beauregard/
LOCATION:EVS Beauregard\, 17 rue Louison Bodet\, 31300
CATEGORIES:Animation,Atelier
ATTACH;FMTTYPE=image/jpeg:https://cartoucirc.fr/wp-content/uploads/2025/09/jeans-8314814_1280.jpg
END:VEVENT
BEGIN:VEVENT
DTSTART;VALUE=DATE:20251001
DTEND;VALUE=DATE:20251005
DTSTAMP:20260421T145927
CREATED:20250923T153946Z
LAST-MODIFIED:20250930T095547Z
UID:2088-1759276800-1759622399@cartoucirc.fr
SUMMARY:Semaine du réemploi solidaire : Du 1er au 4 octobre 2025 chez CartouCirc
DESCRIPTION:Atelier couture La Semaine du Réemploi Solidaire 🌍✨\nCette semaine-là\, partout en France\, notamment à Toulouse on met en lumière le réemploi solidaire.CartouCirc est membre du Réseau National des Ressourceries et Recycleries. À ce titre\, nous nous associons à la toute première édition de Semaine nationale du Réemploi Solidaire. Cet événement inédit est porté par l’Union pour le Réemploi Solidaire (URS). Il réunit les réseaux COORACE\, Emmaüs France\, Envie\, ESS France\, L’Heureux Cyclage et le Réseau National des Ressourceries et Recycleries. L’évènement aura lieu du 29 septembre au 5 octobre 2025 (du mercredi au samedi chez nous). \n🔍 Découvrez la cartographie nationale des événements et trouvez toutes les initiatives proches de chez vous : Carte des événements. \nAtelier couture Sur le fil\n👉 Lors de notre atelier couture “Sur le fil”\, du vendredi 3 octobre après-midi\, nous vous montrerons qu’avec un peu d’imagination\, une aiguille et du fil\, on peut redonner vie à des vêtements et prolonger leur histoire. Réparer\, transformer\, réinventer : c’est déjà un acte solidaire et écologique. L’atelier sera à prix libre. Il se déroulera avec les habitant·es des 4 Vents. \nBraderie changement de saison – Chiner responsable et écolo\n👉 Du mercredi 1er au samedi 4 octobre\, venez à la boutique sur les heures d’ouverture. Il y aura une braderie de changement de saison et tous petits prix. Ainsi\, il y aura des t-shirts\, shorts\, jupes à 1 €\, des robes à 3 € des articles de marque à 50%. Le principe\, c’est de les sauver dans vos placards\, et ainsi\, de contribuer à l’effort de saison en attendant les prochains beaux jours. \nEt tout au long de l’année\n👉 Le réemploi solidaire à Toulouse et à la Cartoucherie\, ce n’est pas seulement l’atelier ou une seule semaine l’an ! \nDes bons cadeaux et des collectes solidaires répondent aux besoin des associations partenaires.\nTout au long de l’année\, nous distribuons des bons cadeaux à des personnes vivant en centres d’hébergement\, en squat ou à la rue. Ces bons leur permettent de choisir librement des vêtements\, des objets utiles ou plaisirs dans notre boutique. Cela leur permet de retrouver un peu de chaleur\, dignité et confiance. Nous visons la redistribution de 2% de notre chiffre d’affaires en bons cadeaux ou dons aux associations partenaires. \nPonctuellement nous organisons de collectes solidaires\, ou des prélèvements solidaires en boutique\, par exemple pour les jeunes mineurs isolés du collectif Autonomie 31 ou encore pour les Restos Bébés ou les services d’hospitalisation d’enfants à l’hôpital Purpan. \n👉 Nous sommes en relation avec des associations de terrain comme les Restos Bébés\, Féminité sans Abri\, ou Autonomie 31 qui nous aident à identifier les besoins et à orienter les personnes les plus fragilisées. \nUne culture de la coopération et de la solidarité ancré dans notre statut associatif et nos réseaux\nNous travaillons toujours en priorité en partenariat avec les ressourceries (La Glanerie\, Hexeco) et les membres du réseau du réemploi solidaire (Emmaüs\, Le Relais\,  Label Emmaüs) pour chercher des solutions les plus durables et solidaires pour les objets et vêtements que nous collectons. \nToutes les semaines\, nous accueillons parmi nos bénévoles des femmes hébergées en situation précaire\, pour favoriser la rencontre interculturelle et sociale\, l’apprentissage du français et l’intégration socio-culturelle. \nNous animons régulièrement des friperies et ateliers itinérants dans le quartier prioritaire de la ville Beauregard\, en partenariat avec l’espace de vie sociale géré par l’ASSQOT. Après la friperie enfants\, nous organisons une friperie hommes le 3 octobre prochain. \nUn ancrage sur le territoire\nEn participant aux évènements qui ont lieu aux Halles de la Cartoucherie (prog à venir\, mais dès ce we nous serons samedi à journée végétale organisée par les Halles de la Transition)\, au jardin du Barry\, en organisant le vide-greniers et la fête de l’économie circulaire et solidaire de la Cartoucherie (€savethedate 30/05/2026). Et pleins d’autres coopérations avec des tas d’acteurs de l’ESS. \nEn somme\nParce qu’au-delà d’une semaine symbolique\, le réemploi solidaire est un engagement quotidien :💚 pour réduire les déchets\,💚 pour soutenir celles et ceux qui en ont besoin\,💚 et pour tisser des liens d’entraide dans notre quartier et au-delà. \nhttp://cartoucirc.fr/wp-content/uploads/2025/09/18_09_2025_SemReemploiSolidaire.mp4
URL:https://cartoucirc.fr/event/reemploi-solidaire-toulouse-cartoucirc/
LOCATION:BoutiC CartouCirc\, 12 rue Thomas Duuy\, Toulouse\, 31300\, France
CATEGORIES:Animation,Braderie,Vente éphémère intérieur
ATTACH;FMTTYPE=image/jpeg:https://cartoucirc.fr/wp-content/uploads/2025/09/URS_semaine-reemploi_visuel-RS_solidarite-2048x1024-1.jpg
END:VEVENT
BEGIN:VEVENT
DTSTART;TZID=Europe/Paris:20251010T193000
DTEND;TZID=Europe/Paris:20251010T220000
DTSTAMP:20260421T145927
CREATED:20250929T201552Z
LAST-MODIFIED:20250930T101503Z
UID:2118-1760124600-1760133600@cartoucirc.fr
SUMMARY:Repas des bénévoles
DESCRIPTION:En toute convivialité\, la quarantaine de bénévoles de notre association est conviée le vendredi 10 octobre à 19h30 pour partager un repas chaleureux. \nCes moments sont l’occasion d’échanger sur la vie de l’association\, de renforcer les liens entre membres. Cela permet aussi de réfléchir collectivement au fonctionnement en boutique et en salle de collecte. Lors de cette soirée\, une étape importante sera franchie : la présentation officielle de la nouvelle charte des bénévoles\, un document qui précise les valeurs\, les engagements et l’esprit de solidarité qui nous unissent. Ce sera aussi la veille de la grande mobilisation des associations. \nPourquoi participer à une soirée bénévole ?\nParce que ces rencontres ne se limitent pas à un simple repas. Elles permettent de mieux connaître les missions de l’association\, de partager ses expériences\, d’apporter de nouvelles idées et de découvrir comment chacun peut s’investir selon ses disponibilités et ses envies. C’est aussi un moment idéal pour créer du lien social\, rencontrer d’autres personnes engagées et vivre une expérience humaine riche de sens. \nVous avez déjà envie d’en savoir plus sur le bénévolat au sein de notre structure ? 👉\nConsultez notre page dédiée au bénévolat et découvrez toutes les informations pratiques pour rejoindre l’aventure. \nVous hésitez encore à franchir le pas ? Rien de mieux que de voir l’ambiance conviviale de nos précédentes rencontres. \n👉 Revoir en images quelques soirées soirées des adhérent·es ou des bénévoles. \nPour ressentir l’énergie collective et la bonne humeur qui animent nos rendez-vous.
URL:https://cartoucirc.fr/event/repas-des-benevoles-2/
LOCATION:BoutiC CartouCirc\, 12 rue Thomas Duuy\, Toulouse\, 31300\, France
CATEGORIES:Animation,Atelier,BoutiC
ATTACH;FMTTYPE=image/jpeg:https://cartoucirc.fr/wp-content/uploads/2025/01/IMG-20250110-WA0014.jpg
END:VEVENT
BEGIN:VEVENT
DTSTART;TZID=Europe/Paris:20260115T140000
DTEND;TZID=Europe/Paris:20260115T160000
DTSTAMP:20260421T145927
CREATED:20241114T092144Z
LAST-MODIFIED:20260106T221445Z
UID:1491-1768485600-1768492800@cartoucirc.fr
SUMMARY:Atelier Créatif :  cartes de voeux
DESCRIPTION:Rejoignez-nous à Toulouse pour un atelier de création de cartes de voeux !\nCartouCirc vous propose de passer à la nouvelle année de manière éco responsable et créative\, le jeudi 15 janvier  pour un atelier unique de création de cartes postales de Nouvel An à partir de matériaux re-employés ! \nDans cet atelier\, vous apprendrez à transformer des objets du quotidien (journaux\, magazines\, emballages\, cartons\, etc.) en magnifiques cartes de vœux personnalisées. L’objectif est de créer des cartes originales\, tout en réduisant notre impact environnemental. En somme\, un moyen idéal de transmettre vos vœux de manière festive et durable ! \nAu programme de cet atelier :\n\nCréation de cartes personnalisées : découvrez différentes techniques de collage\, peinture pour donner vie à vos idées. Vous repartirez avec une de vos créations réalisées de vos mains\, prête à être envoyée. Les autres seront revendues à prix solidaire dans nos boutiques pour les fêtes.  \nMatériel fourni : tout le matériel nécessaire sera à votre disposition (cartes\, journaux\, paillettes\, peintures\, crayons\, embellissements…). Ramenez vos vieux journaux\, on n’en a jamais trop !\nAmbiance conviviale et créative : que vous soyez novice ou confirmé·e en matière de DIY\, cet atelier est l’occasion parfaite de partager un moment chaleureux et de découvrir de nouvelles techniques artistiques.\n\nAinsi\, que vous souhaitiez offrir un cadeau fait main ou simplement partager vos meilleurs vœux et faire un don de temps et de vos créations à notre association\, cet atelier est l’occasion idéale de mettre vos idées en cartes ! \nRéservation : Places limitées\, pensez à réserver rapidement !  \nDate : Jeudi 15 janvier 2026\nLieu :  Salle de l’Espace de Vie Sociale de la Cépière-Beauregard – 17 rue Louison Bobet\nHoraire :  14h – 16H \nLes modalités de participation :\nEn définitive\, pour cet atelier Cartes du Nouvel An à Toulouse\, il vous faudra : \n\nêtre adhérent·e chez CartouCirc (si ce n’est pas le cas vous pouvez le faire en passant nous voir à la BoutiC ou via le site en cliquant ici);\nvous inscrire en nous contactant ;\nparticiper financièrement à prix libre ;\ns’assurer d’être disponible aux dates indiquées.\n\nhttp://cartoucirc.fr/wp-content/uploads/2024/11/VID-20241108-WA0010.mp4
URL:https://cartoucirc.fr/event/atelier-creatif-cartes-du-nouvel-an/
LOCATION:EVS Beauregard\, 17 rue Louison Bodet\, 31300
CATEGORIES:Animation,Atelier
ATTACH;FMTTYPE=image/png:https://cartoucirc.fr/wp-content/uploads/2024/11/2026-S1-Atelier-EVS-site-Internet.png
END:VEVENT
BEGIN:VEVENT
DTSTART;TZID=Europe/Paris:20260327T160000
DTEND;TZID=Europe/Paris:20260327T180000
DTSTAMP:20260421T145927
CREATED:20250325T162322Z
LAST-MODIFIED:20260324T150955Z
UID:1796-1774627200-1774634400@cartoucirc.fr
SUMMARY:Carnaval du centre social Assqot / Polygone 🎭✨
DESCRIPTION:Rejoignez-nous le vendredi 27 mars entre 16h à 19h pour le carnaval au parc Polygone avec le centre social ASSQOT. \nNous emmènerons notre cariole garnie de déguisements pour les petits et grands\, jouets et livres pour les enfants. \n🧩 Au Programme du Carnaval : les droits des enfants\nLa thématique de cette année : les droits des enfants. Alors nous vous attendons nombreux pour participer à la parade des droits\, au son de la fanfare La pêche Ô Boucan ! \nComme chaque année\, une flashmob nous fera danser tous ensemble. \nUne tombola vous attend\, grâce aux dons des commerçants et associations du quartier (dont ceux de votre ressourcerie préférée ;-)\, vous pouvez d’ores-et-déjà acheter vos tickets au centre social ASSQOT ! \n🏅 Pourquoi Participer ?\nParce que c’est un super moment à passer !  🎭🎉 \n📅 Infos Pratiques :\nInscription : Pas d’inscription RV sur place \nParticipation : Gratuit \nLieu : Carnaval dans les jardins du parc Polygone 16 rue Vincent Scotto 31300 Toulouse \n \nAutres ateliers &évènements\nN’hésitez pas à consulter notre programmation pour en savoir plus sur nos activités : l’atelier crochet à Toulouse\, mais aussi l’atelier bijoux\, l’atelier boutures et  d’autres thèmes à venir. \nAFFICHE 2026 - A VALIDER\n  \n\n		\n	\n	\n	\n	\n		VID_20251231_045238_186-Carnaval
URL:https://cartoucirc.fr/event/carnaval-du-centre-social-assqot-polygone-%f0%9f%8e%ad%e2%9c%a8/
LOCATION:Parc Polygone\, 16 rue Vincent Sotto\, Toulouse\, 31300\, France
CATEGORIES:Animation,Vente éphémère extérieur
ATTACH;FMTTYPE=image/jpeg:https://cartoucirc.fr/wp-content/uploads/2025/03/IMG_20250411_163612.jpg
END:VEVENT
END:VCALENDAR